BEGIN:VCALENDAR
VERSION:2.0
PRODID:-//GRÜNE Burgdorf - ECPv6.15.15//NONSGML v1.0//EN
CALSCALE:GREGORIAN
METHOD:PUBLISH
X-WR-CALNAME:GRÜNE Burgdorf
X-ORIGINAL-URL:https://grueneburgdorf.ch
X-WR-CALDESC:Veranstaltungen für GRÜNE Burgdorf
REFRESH-INTERVAL;VALUE=DURATION:PT1H
X-Robots-Tag:noindex
X-PUBLISHED-TTL:PT1H
BEGIN:VTIMEZONE
TZID:Europe/Zurich
BEGIN:DAYLIGHT
TZOFFSETFROM:+0100
TZOFFSETTO:+0200
TZNAME:CEST
DTSTART:20250330T010000
END:DAYLIGHT
BEGIN:STANDARD
TZOFFSETFROM:+0200
TZOFFSETTO:+0100
TZNAME:CET
DTSTART:20251026T010000
END:STANDARD
BEGIN:DAYLIGHT
TZOFFSETFROM:+0100
TZOFFSETTO:+0200
TZNAME:CEST
DTSTART:20260329T010000
END:DAYLIGHT
BEGIN:STANDARD
TZOFFSETFROM:+0200
TZOFFSETTO:+0100
TZNAME:CET
DTSTART:20261025T010000
END:STANDARD
BEGIN:DAYLIGHT
TZOFFSETFROM:+0100
TZOFFSETTO:+0200
TZNAME:CEST
DTSTART:20270328T010000
END:DAYLIGHT
BEGIN:STANDARD
TZOFFSETFROM:+0200
TZOFFSETTO:+0100
TZNAME:CET
DTSTART:20271031T010000
END:STANDARD
END:VTIMEZONE
BEGIN:VEVENT
DTSTART;TZID=Europe/Zurich:20260622T190000
DTEND;TZID=Europe/Zurich:20260622T210000
DTSTAMP:20260425T183434
CREATED:20250921T100538Z
LAST-MODIFIED:20250921T100559Z
UID:6010-1782154800-1782162000@grueneburgdorf.ch
SUMMARY:Stadtrat
DESCRIPTION:
URL:https://grueneburgdorf.ch/event/stadtrat-22-copy-copy-copy-copy
LOCATION:Gemeindesaal\, Kirchbühl 23\, Burgdorf\, BE\, 3400\, Schweiz
END:VEVENT
END:VCALENDAR